BEGIN:VCALENDAR
VERSION:2.0
PRODID:-//St. Nicholas Ukrainian Catholic Parish - ECPv6.15.18//NONSGML v1.0//EN
CALSCALE:GREGORIAN
METHOD:PUBLISH
X-WR-CALNAME:St. Nicholas Ukrainian Catholic Parish
X-ORIGINAL-URL:https://stnicholasucp.ca
X-WR-CALDESC:Events for St. Nicholas Ukrainian Catholic Parish
REFRESH-INTERVAL;VALUE=DURATION:PT1H
X-Robots-Tag:noindex
X-PUBLISHED-TTL:PT1H
BEGIN:VTIMEZONE
TZID:America/Edmonton
BEGIN:DAYLIGHT
TZOFFSETFROM:-0700
TZOFFSETTO:-0600
TZNAME:MDT
DTSTART:20240310T090000
END:DAYLIGHT
BEGIN:STANDARD
TZOFFSETFROM:-0600
TZOFFSETTO:-0700
TZNAME:MST
DTSTART:20241103T080000
END:STANDARD
BEGIN:DAYLIGHT
TZOFFSETFROM:-0700
TZOFFSETTO:-0600
TZNAME:MDT
DTSTART:20250309T090000
END:DAYLIGHT
BEGIN:STANDARD
TZOFFSETFROM:-0600
TZOFFSETTO:-0700
TZNAME:MST
DTSTART:20251102T080000
END:STANDARD
BEGIN:DAYLIGHT
TZOFFSETFROM:-0700
TZOFFSETTO:-0600
TZNAME:MDT
DTSTART:20260308T090000
END:DAYLIGHT
BEGIN:STANDARD
TZOFFSETFROM:-0600
TZOFFSETTO:-0700
TZNAME:MST
DTSTART:20261101T080000
END:STANDARD
END:VTIMEZONE
BEGIN:VEVENT
DTSTART;TZID=America/Edmonton:20250815T190000
DTEND;TZID=America/Edmonton:20250815T200000
DTSTAMP:20260421T023458
CREATED:20250723T174316Z
LAST-MODIFIED:20250723T174316Z
UID:10002072-1755284400-1755288000@stnicholasucp.ca
SUMMARY:The Feast of the Dormition of the Most Holy Mother of God 7:00 PM Divine Liturgy
DESCRIPTION:The Feast of the Dormition of the Most Holy Mother of GodFriday\, August 15\, 2025 | A Great Feast of the Theotokos in the Ukrainian Greek-Catholic Church \n\n✥ Introduction\nThe Dormition of the Most Holy Mother of God—celebrated annually on August 15—is one of the Twelve Great Feasts of the liturgical year in the Ukrainian Greek-Catholic Church (UGCC). Known in the Christian East as the Dormition (from the Latin dormire\, “to sleep”)\, this feast commemorates the “falling asleep” of the Theotokos\, the Ever-Virgin Mary\, and her glorious assumption into heaven. \nThe feast affirms not only Mary’s special place in salvation history but also offers hope to all believers: that death is not the end but the gateway to eternal life in Christ. \n\n✥ Scriptural and Theological Foundations\nThough the New Testament does not explicitly describe the Dormition\, the feast draws from Sacred Tradition\, which holds that Mary\, at the end of her earthly life\, fell asleep in peace and was taken body and soul into heaven. This is understood not as a resurrection before the Last Day\, but as a foretaste of the resurrection promised to all faithful in Christ. \nThe Epistle reading (Philippians 2:5–11) focuses on Christ’s humility and exaltation\, laying the foundation for understanding the Dormition: \n\n“He humbled himself\, becoming obedient to the point of death…Therefore God also highly exalted Him…”(Philippians 2:8–9) \n\nIn honoring Mary\, we celebrate God’s exalting of the humble\, and we see in her a mirror of her Son’s Paschal Mystery—dying and rising to eternal life. \nThe Gospel reading (Luke 10:38–42; 11:27–28) highlights Mary’s true greatness not simply in her physical motherhood\, but in her obedience to the Word of God: \n\n“Blessed rather are those who hear the word of God and obey it!”(Luke 11:28) \n\nThis emphasizes why Mary is honored above all: she received the Word\, bore Him in her heart before she bore Him in the womb\, and remained faithful until the end. \n\n✥ Liturgical Highlights in the UGCC\n🕊 Troparion (Tone 1)\n\n“In giving birth you retained your virginity\,in falling asleep you did not abandon the world\, O Mother of God.You passed into life\, for you are the Mother of Life\,and by your prayers you deliver our souls from death.” \n\nThis hymn encapsulates the core theology of the Dormition: Mary\, the Mother of Life\, is not bound by death but continues to intercede for the world. She “passes into life\,” giving hope to all who die in Christ. \n🕊 Kontakion (Tone 2)\n\n“The tomb and death could not hold the Mother of God…for\, as the Mother of Life\, she was transferred to lifeby Him Who had dwelt in her ever-virgin womb.” \n\nThe Kontakion proclaims that Mary’s bodily death did not end in corruption\, but in glory\, because the Lord of Life Himself dwelt within her. This serves as a promise to all who believe. \n🕊 Prokeimenon and Alleluia Verses\n\n“My soul magnifies the Lord\, and my spirit has rejoiced in God my Saviour.”(Luke 1:46–48) \n\nThese verses recall the Magnificat\, Mary’s hymn of praise\, revealing her humility and the blessings poured upon her by God. \n\n“Rise up\, O Lord\, to the place of Your rest\, You and the ark of Your holiness.”(Psalm 131:8) \n\nThe Church sees Mary as the Ark—the dwelling place of God—now raised to her eternal rest. \n\n✥ Hymns to the Theotokos\n\n“Seeing the pure one’s falling asleep\, angels marvelled in wonderhow the Virgin could ascend from earth to heaven.” \n\nThis poetic line\, chanted during the Divine Liturgy\, invites the faithful to marvel with the angels at this wondrous mystery. The accompanying Irmos (Tone 4) declares: \n\n“O pure Virgin\, in you are conquered the bounds of nature…Virgin after childbearing and alive after death…” \n\nIn Mary\, the natural laws of biology and mortality are surpassed by divine grace. She remains virgin in childbirth and now lives eternally\, a sign of hope for all creation. \n\n✥ UGCC Traditions and Customs\n🌿 Blessing of Herbs and Flowers\nIn the UGCC and many Eastern traditions\, the blessing of flowers and herbs is a cherished custom on this feast. The faithful bring bouquets of aromatic plants—symbols of beauty\, healing\, and life—to be blessed at the end of the Divine Liturgy. \nThis practice has ancient roots. Tradition holds that when the Apostles came to Mary’s tomb\, they found it empty\, filled only with heavenly fragrance and flowers. The blessing serves as a reminder of Mary’s incorrupt body and of our call to spiritual renewal. \n🌼 Liturgical Color and Tone\nThe vestments are festal\, usually blue or white\, symbolizing purity and joy. The Tone 1 and Tone 2 chants used throughout the service emphasize both peaceful rest and victorious ascent. \n\n✥ Spiritual Meaning of the Dormition\nThe Dormition of the Mother of God is not merely a memorial of her death\, but a celebration of her glorification. Mary shows us the path every Christian is called to walk: \n\n\nHumility in service\, like the handmaid of the Lord. \n\n\nObedience to God’s Word\, as she lived in Luke 1:38. \n\n\nPerseverance through suffering\, as she stood at the Cross. \n\n\nEternal union with Christ\, our hope and destiny. \n\n\nIn this feast\, we do not mourn Mary’s death\, but rejoice in her life\, both earthly and heavenly. \n\n✥ Communion and Conclusion\n\n“I will take the chalice of salvation\,and I will call upon the name of the Lord.”(Communion Hymn – Psalm 115:13) \n\nIn communion\, the faithful share in the life Mary now possesses fully. We are reminded that her Dormition is not just a mystery of the past but a sign of our future in Christ. \n\n✥ Final Reflection\nAs we celebrate the Dormition\, we cry out with the Church: \n\n“Most Holy Mother of God\, save us!” \n\nFor she is our intercessor\, our protector\, and our example of perfect discipleship. Her Dormition is not an ending\, but a radiant beginning of heavenly glory\, calling us to listen to the Word of God\, obey it\, and follow Christ to eternal life. \n\nGlory be to Jesus Christ!
URL:https://stnicholasucp.ca/event/the-feast-of-the-dormition-of-the-most-holy-mother-of-god-700-pm-divine-liturgy/
LOCATION:St. Nicholas Ukrainian Catholic Parish\, 9507 Austin O'Brien Rd NW\, Edmonton\, Alberta\, T6B 2C1\, Canada
END:VEVENT
END:VCALENDAR