BEGIN:VCALENDAR
VERSION:2.0
PRODID:-//St. Nicholas Ukrainian Catholic Parish - ECPv6.15.18//NONSGML v1.0//EN
CALSCALE:GREGORIAN
METHOD:PUBLISH
X-WR-CALNAME:St. Nicholas Ukrainian Catholic Parish
X-ORIGINAL-URL:https://stnicholasucp.ca
X-WR-CALDESC:Events for St. Nicholas Ukrainian Catholic Parish
REFRESH-INTERVAL;VALUE=DURATION:PT1H
X-Robots-Tag:noindex
X-PUBLISHED-TTL:PT1H
BEGIN:VTIMEZONE
TZID:America/Edmonton
BEGIN:DAYLIGHT
TZOFFSETFROM:-0700
TZOFFSETTO:-0600
TZNAME:MDT
DTSTART:20250309T090000
END:DAYLIGHT
BEGIN:STANDARD
TZOFFSETFROM:-0600
TZOFFSETTO:-0700
TZNAME:MST
DTSTART:20251102T080000
END:STANDARD
BEGIN:DAYLIGHT
TZOFFSETFROM:-0700
TZOFFSETTO:-0600
TZNAME:MDT
DTSTART:20260308T090000
END:DAYLIGHT
BEGIN:STANDARD
TZOFFSETFROM:-0600
TZOFFSETTO:-0700
TZNAME:MST
DTSTART:20261101T080000
END:STANDARD
BEGIN:DAYLIGHT
TZOFFSETFROM:-0700
TZOFFSETTO:-0600
TZNAME:MDT
DTSTART:20270314T090000
END:DAYLIGHT
BEGIN:STANDARD
TZOFFSETFROM:-0600
TZOFFSETTO:-0700
TZNAME:MST
DTSTART:20271107T080000
END:STANDARD
END:VTIMEZONE
BEGIN:VEVENT
DTSTART;TZID=America/Edmonton:20260417T100000
DTEND;TZID=America/Edmonton:20260417T120000
DTSTAMP:20260421T023457
CREATED:20260203T081319Z
LAST-MODIFIED:20260315T034340Z
UID:10002441-1776420000-1776427200@stnicholasucp.ca
SUMMARY:Social Drop-in event every Friday from 10 AM to 12:00 PM
DESCRIPTION:Please come to SOCIAL DROP-IN every Friday from 10:00 AM to noon in the church basement. It is a great chance to socialize and engage in any activities you choose. If you would like to come and need a ride\, please contact Barb 780 722 3537. EVERYBODY WELCOME! \n \nБудь ласка\, приходьте на SOCIAL DROP-IN  –  захід суспільного спілкування що п’ятниці з 10:00 до 12:00 у підвалі церкви. Це чудова нагода поспілкуватися та взяти участь у будь-яких заходах на ваш вибір. Якщо ви хочете прийти і вам потрібна допомога\, будь ласка\, зв’яжіться з Барб за номером 780 722 3537. ЛАСКАВО ПРОСИМО ВСІХ!\n\n\n  \n☕ Ви новоприбулі в Канаді? Запрошуємо вас!\nПочинаючи з лютого\, парафія Святого Миколая щиро запрошує новоприбулі українські родини на п’ятничні зустрічі-спілкування з 10:00 до 12:00 у підвалі церкви. \nМи знаємо\, що ваше життя зараз дуже насичене: нова країна\, робота\, школа\, документи… Це може бути стресово. Але навіть кілька годин у теплому товаристві допоможуть вам відпочити душею та відчути себе як удома. \nПриходьте на каву та дружню розмову.Приходьте знайомитися.Приходьте поділитися своєю історією — або просто побути серед своїх. \nНе обов’язково бути членом парафії. Нічого не потрібно приносити. Просто приходьте такими\, як ви є. \nМожливо\, ви зможете навчити нас якоїсь улюбленої української гри\, вправ чи традиції\, які ви практикували вдома — нам буде дуже приємно вчитися разом! \nЗа потреби можемо організувати доїзд. \nДля довідок телефонуйте:Barb Olynyk – 780-722-3537 \nЩиро раді будемо вас бачити!
URL:https://stnicholasucp.ca/event/social-drop-in-event-every-friday-from-10-am-to-1200-pm/2026-04-17/
LOCATION:St. Nicholas Ukrainian Catholic Parish\, 9507 Austin O'Brien Rd NW\, Edmonton\, Alberta\, T6B 2C1\, Canada
ATTACH;FMTTYPE=image/png:https://stnicholasucp.ca/wp-content/uploads/2026/02/ChatGPT-Image-Mar-14-2026-at-09_34_34-PM.webp
END:VEVENT
END:VCALENDAR