BEGIN:VCALENDAR
VERSION:2.0
PRODID:-//St. Nicholas Ukrainian Catholic Parish - ECPv6.15.18//NONSGML v1.0//EN
CALSCALE:GREGORIAN
METHOD:PUBLISH
X-WR-CALNAME:St. Nicholas Ukrainian Catholic Parish
X-ORIGINAL-URL:https://stnicholasucp.ca
X-WR-CALDESC:Events for St. Nicholas Ukrainian Catholic Parish
REFRESH-INTERVAL;VALUE=DURATION:PT1H
X-Robots-Tag:noindex
X-PUBLISHED-TTL:PT1H
BEGIN:VTIMEZONE
TZID:America/Edmonton
BEGIN:DAYLIGHT
TZOFFSETFROM:-0700
TZOFFSETTO:-0600
TZNAME:MDT
DTSTART:20250309T090000
END:DAYLIGHT
BEGIN:STANDARD
TZOFFSETFROM:-0600
TZOFFSETTO:-0700
TZNAME:MST
DTSTART:20251102T080000
END:STANDARD
BEGIN:DAYLIGHT
TZOFFSETFROM:-0700
TZOFFSETTO:-0600
TZNAME:MDT
DTSTART:20260308T090000
END:DAYLIGHT
BEGIN:STANDARD
TZOFFSETFROM:-0600
TZOFFSETTO:-0700
TZNAME:MST
DTSTART:20261101T080000
END:STANDARD
BEGIN:DAYLIGHT
TZOFFSETFROM:-0700
TZOFFSETTO:-0600
TZNAME:MDT
DTSTART:20270314T090000
END:DAYLIGHT
BEGIN:STANDARD
TZOFFSETFROM:-0600
TZOFFSETTO:-0700
TZNAME:MST
DTSTART:20271107T080000
END:STANDARD
END:VTIMEZONE
BEGIN:VEVENT
DTSTART;TZID=America/Edmonton:20260421T083500
DTEND;TZID=America/Edmonton:20260421T093000
DTSTAMP:20260421T035948
CREATED:20260407T173701Z
LAST-MODIFIED:20260415T005924Z
UID:10002572-1776760500-1776763800@stnicholasucp.ca
SUMMARY:Divine Liturgy at St. Isidore School
DESCRIPTION:Experience Divine Liturgy at St. Isidore School\nJoin us for the Divine Liturgy at St. Isidore School\, a cherished occasion for our community to come together in faith and worship. The Divine Liturgy is the heart of our spiritual life in the Ukrainian Catholic tradition\, a sacred service where we celebrate the presence of Christ in our lives and among our community. \nWhat is the Divine Liturgy?\nThe Divine Liturgy is more than just a church service; it is the central act of Christian worship where the Eucharist is celebrated. During this sacred rite\, we come together to participate in the life-giving mystery of Christ’s body and blood. It is a time for prayer\, reflection\, and community bonding as we express our faith through the rituals and traditions that have been passed down through generations. \nAt St. Isidore School\, we strive to create a welcoming environment for all attendees\, whether you are a regular member of our parish or visiting for the first time. The Divine Liturgy provides an opportunity for everyone to deepen their relationship with God and to experience the warmth and unity of our faith community. \nExperience the beauty of the Divine Liturgy as we come together in worship\, prayer\, and community. Your presence enriches our collective faith journey\, and we look forward to sharing this sacred experience with you. \nThe Divine Liturgy at St. Isidore School is a cornerstone of our community’s spiritual life\, offering a time for worship\, reflection\, and fellowship. Join us as we gather to celebrate our faith\, support one another\, and seek the guidance of God in our lives.
URL:https://stnicholasucp.ca/event/divine-liturgy-at-st-isidore-school-26/
LOCATION:Holy Spirit Catholic Elementary School\, 151 Crimson Dr\, Sherwood Park\, Alberta\, T8H 2R2\, Canada
ATTACH;FMTTYPE=image/jpeg:https://stnicholasucp.ca/wp-content/uploads/2024/10/461942230_885163590260218_8370912958955135178_n-jpg.webp
END:VEVENT
END:VCALENDAR